BEGIN:VCALENDAR
VERSION:2.0
PRODID:-//Filarmonica di Villadossola APS - ECPv6.0.13.1//NONSGML v1.0//EN
CALSCALE:GREGORIAN
METHOD:PUBLISH
X-WR-CALNAME:Filarmonica di Villadossola APS
X-ORIGINAL-URL:https://filarmonicavilladossola.it
X-WR-CALDESC:Eventi per Filarmonica di Villadossola APS
REFRESH-INTERVAL;VALUE=DURATION:PT1H
X-Robots-Tag:noindex
X-PUBLISHED-TTL:PT1H
BEGIN:VTIMEZONE
TZID:Europe/Rome
BEGIN:DAYLIGHT
TZOFFSETFROM:+0100
TZOFFSETTO:+0200
TZNAME:CEST
DTSTART:20250330T010000
END:DAYLIGHT
BEGIN:STANDARD
TZOFFSETFROM:+0200
TZOFFSETTO:+0100
TZNAME:CET
DTSTART:20251026T010000
END:STANDARD
END:VTIMEZONE
BEGIN:VEVENT
DTSTART;TZID=Europe/Rome:20250323T160000
DTEND;TZID=Europe/Rome:20250323T180000
DTSTAMP:20260421T101942
CREATED:20250129T132434Z
LAST-MODIFIED:20250129T132434Z
UID:2608-1742745600-1742752800@filarmonicavilladossola.it
SUMMARY:Esibizione e premiazione del concorso canoro
DESCRIPTION:
URL:https://filarmonicavilladossola.it/evento/esibizione-e-premiazione-del-concorso-canoro/
LOCATION:Teatro “La Fabbrica”\, corso italia 13\, Villadossola\, 28844\, Italia
ORGANIZER;CN="Filarmonica%20Villadossola":MAILTO:filarmonica.villadossola@gmail.com
END:VEVENT
BEGIN:VEVENT
DTSTART;TZID=Europe/Rome:20250330T160000
DTEND;TZID=Europe/Rome:20250330T180000
DTSTAMP:20260421T101942
CREATED:20250129T132536Z
LAST-MODIFIED:20250129T132536Z
UID:2610-1743350400-1743357600@filarmonicavilladossola.it
SUMMARY:Concerto del 125°
DESCRIPTION:
URL:https://filarmonicavilladossola.it/evento/concerto-del-125/
LOCATION:Teatro “La Fabbrica”\, corso italia 13\, Villadossola\, 28844\, Italia
ORGANIZER;CN="Filarmonica%20Villadossola":MAILTO:filarmonica.villadossola@gmail.com
END:VEVENT
END:VCALENDAR